BEGIN:VCALENDAR
VERSION:2.0
PRODID:-//Donny Schatz - ECPv6.15.17//NONSGML v1.0//EN
CALSCALE:GREGORIAN
METHOD:PUBLISH
X-ORIGINAL-URL:https://donnyschatzmotorsports.com
X-WR-CALDESC:Events for Donny Schatz
REFRESH-INTERVAL;VALUE=DURATION:PT1H
X-Robots-Tag:noindex
X-PUBLISHED-TTL:PT1H
BEGIN:VTIMEZONE
TZID:America/New_York
BEGIN:DAYLIGHT
TZOFFSETFROM:-0500
TZOFFSETTO:-0400
TZNAME:EDT
DTSTART:20230312T070000
END:DAYLIGHT
BEGIN:STANDARD
TZOFFSETFROM:-0400
TZOFFSETTO:-0500
TZNAME:EST
DTSTART:20231105T060000
END:STANDARD
BEGIN:DAYLIGHT
TZOFFSETFROM:-0500
TZOFFSETTO:-0400
TZNAME:EDT
DTSTART:20240310T070000
END:DAYLIGHT
BEGIN:STANDARD
TZOFFSETFROM:-0400
TZOFFSETTO:-0500
TZNAME:EST
DTSTART:20241103T060000
END:STANDARD
BEGIN:DAYLIGHT
TZOFFSETFROM:-0500
TZOFFSETTO:-0400
TZNAME:EDT
DTSTART:20250309T070000
END:DAYLIGHT
BEGIN:STANDARD
TZOFFSETFROM:-0400
TZOFFSETTO:-0500
TZNAME:EST
DTSTART:20251102T060000
END:STANDARD
END:VTIMEZONE
BEGIN:VEVENT
DTSTART;TZID=America/New_York:20240303T183000
DTEND;TZID=America/New_York:20240303T220000
DTSTAMP:20260423T032453
CREATED:20231214T182732Z
LAST-MODIFIED:20231214T184137Z
UID:9529-1709490600-1709503200@donnyschatzmotorsports.com
SUMMARY:World of Outlaws Bike Week Jamboree
DESCRIPTION:Broadcast live on:
URL:https://donnyschatzmotorsports.com/event/dirtcar-nationals-15/
LOCATION:Volusia Speedway Park\, 1500 East State Road 40\, De Leon\, FL\, 32130\, United States
CATEGORIES:2024 Season
ATTACH;FMTTYPE=image/png:https://donnyschatzmotorsports.com/wp-content/uploads/2023/02/WoO_logo.png
END:VEVENT
BEGIN:VEVENT
DTSTART;TZID=America/New_York:20240304T183000
DTEND;TZID=America/New_York:20240304T220000
DTSTAMP:20260423T032453
CREATED:20231214T182832Z
LAST-MODIFIED:20231214T184117Z
UID:9531-1709577000-1709589600@donnyschatzmotorsports.com
SUMMARY:World of Outlaws Bike Week Jamboree
DESCRIPTION:Broadcast live on:
URL:https://donnyschatzmotorsports.com/event/dirtcar-nationals-16/
LOCATION:Volusia Speedway Park\, 1500 East State Road 40\, De Leon\, FL\, 32130\, United States
CATEGORIES:2024 Season
ATTACH;FMTTYPE=image/png:https://donnyschatzmotorsports.com/wp-content/uploads/2023/02/WoO_logo.png
END:VEVENT
BEGIN:VEVENT
DTSTART;TZID=America/New_York:20240308T183000
DTEND;TZID=America/New_York:20240308T220000
DTSTAMP:20260423T032453
CREATED:20231214T184419Z
LAST-MODIFIED:20231214T184433Z
UID:9540-1709922600-1709935200@donnyschatzmotorsports.com
SUMMARY:World of Outlaws Brickyard Showdown
DESCRIPTION:Broadcast live on:
URL:https://donnyschatzmotorsports.com/event/world-of-outlaws-brickyard-showdown/
LOCATION:Kennedale Speedway Park\, 6727 Hudson Vlg Crk Rd\, Kennedale\, Texas\, 76060\, United States
CATEGORIES:2024 Season
ATTACH;FMTTYPE=image/png:https://donnyschatzmotorsports.com/wp-content/uploads/2023/02/WoO_logo.png
END:VEVENT
BEGIN:VEVENT
DTSTART;TZID=America/New_York:20240309T183000
DTEND;TZID=America/New_York:20240309T220000
DTSTAMP:20260423T032453
CREATED:20231214T184548Z
LAST-MODIFIED:20231214T184604Z
UID:9548-1710009000-1710021600@donnyschatzmotorsports.com
SUMMARY:World of Outlaws Brickyard Showdown
DESCRIPTION:Broadcast live on:
URL:https://donnyschatzmotorsports.com/event/world-of-outlaws-brickyard-showdown-2/
LOCATION:Kennedale Speedway Park\, 6727 Hudson Vlg Crk Rd\, Kennedale\, Texas\, 76060\, United States
CATEGORIES:2024 Season
ATTACH;FMTTYPE=image/png:https://donnyschatzmotorsports.com/wp-content/uploads/2023/02/WoO_logo.png
END:VEVENT
BEGIN:VEVENT
DTSTART;TZID=America/New_York:20240315T183000
DTEND;TZID=America/New_York:20240315T220000
DTSTAMP:20260423T032453
CREATED:20231214T184708Z
LAST-MODIFIED:20231214T184723Z
UID:9550-1710527400-1710540000@donnyschatzmotorsports.com
SUMMARY:World of Outlaws Texas Two-Step
DESCRIPTION:Broadcast live on:
URL:https://donnyschatzmotorsports.com/event/world-of-outlaws-texas-two-step/
LOCATION:Cotton Bowl Speedway\, Paige\, Texas\, United States
CATEGORIES:2024 Season
ATTACH;FMTTYPE=image/png:https://donnyschatzmotorsports.com/wp-content/uploads/2023/02/WoO_logo.png
END:VEVENT
BEGIN:VEVENT
DTSTART;TZID=America/New_York:20240316T183000
DTEND;TZID=America/New_York:20240316T220000
DTSTAMP:20260423T032453
CREATED:20231214T184812Z
LAST-MODIFIED:20231214T184923Z
UID:9552-1710613800-1710626400@donnyschatzmotorsports.com
SUMMARY:World of Outlaws Texas Two-Step
DESCRIPTION:Broadcast live on:
URL:https://donnyschatzmotorsports.com/event/world-of-outlaws-texas-two-step-2/
LOCATION:Cotton Bowl Speedway\, Paige\, Texas\, United States
CATEGORIES:2024 Season
ATTACH;FMTTYPE=image/png:https://donnyschatzmotorsports.com/wp-content/uploads/2023/02/WoO_logo.png
END:VEVENT
BEGIN:VEVENT
DTSTART;TZID=America/New_York:20240322T183000
DTEND;TZID=America/New_York:20240322T220000
DTSTAMP:20260423T032453
CREATED:20231214T185212Z
LAST-MODIFIED:20231214T185229Z
UID:9554-1711132200-1711144800@donnyschatzmotorsports.com
SUMMARY:World of Outlaws Bluebonnet Showdown
DESCRIPTION:Broadcast live on:
URL:https://donnyschatzmotorsports.com/event/world-of-outlaws-bluebonnet-showdown/
LOCATION:Big O Speedway\, 3118 FM 85\, Ennis\, Texas\, 75119\, United States
CATEGORIES:2024 Season
ATTACH;FMTTYPE=image/png:https://donnyschatzmotorsports.com/wp-content/uploads/2023/02/WoO_logo.png
END:VEVENT
BEGIN:VEVENT
DTSTART;TZID=America/New_York:20240323T183000
DTEND;TZID=America/New_York:20240323T220000
DTSTAMP:20260423T032453
CREATED:20231214T185355Z
LAST-MODIFIED:20240319T194936Z
UID:9558-1711218600-1711231200@donnyschatzmotorsports.com
SUMMARY:World of Outlaws Cowtown Roundup
DESCRIPTION:Broadcast live on:
URL:https://donnyschatzmotorsports.com/event/world-of-outlaws-sooner-state-showdown/
LOCATION:Kennedale Speedway Park\, 6727 Hudson Vlg Crk Rd\, Kennedale\, Texas\, 76060\, United States
CATEGORIES:2024 Season
ATTACH;FMTTYPE=image/png:https://donnyschatzmotorsports.com/wp-content/uploads/2023/02/WoO_logo.png
END:VEVENT
BEGIN:VEVENT
DTSTART;TZID=America/New_York:20240329T183000
DTEND;TZID=America/New_York:20240329T220000
DTSTAMP:20260423T032453
CREATED:20231214T185649Z
LAST-MODIFIED:20231214T185708Z
UID:9560-1711737000-1711749600@donnyschatzmotorsports.com
SUMMARY:World of Outlaws Thunderbird Showdown
DESCRIPTION:Broadcast live on:
URL:https://donnyschatzmotorsports.com/event/world-of-outlaws-thunderbird-showdown/
LOCATION:Thunderbird Speedway\, 1444 S B St\, Muskogee\, OK 74403\, Muskogee\, Oklahoma\, 74403\, United States
CATEGORIES:2024 Season
ATTACH;FMTTYPE=image/png:https://donnyschatzmotorsports.com/wp-content/uploads/2023/02/WoO_logo.png
END:VEVENT
BEGIN:VEVENT
DTSTART;TZID=America/New_York:20240330T183000
DTEND;TZID=America/New_York:20240330T220000
DTSTAMP:20260423T032453
CREATED:20231214T185845Z
LAST-MODIFIED:20231214T185858Z
UID:9564-1711823400-1711836000@donnyschatzmotorsports.com
SUMMARY:World of Outlaws Wichita Sprint Car Showdown
DESCRIPTION:Broadcast live on:
URL:https://donnyschatzmotorsports.com/event/world-of-outlaws-wichita-sprint-car-showdown/
LOCATION:81 Speedway\, 7700 N Broadway St\, Park City\, Kansas\, 67219
CATEGORIES:2024 Season
ATTACH;FMTTYPE=image/png:https://donnyschatzmotorsports.com/wp-content/uploads/2023/02/WoO_logo.png
END:VEVENT
END:VCALENDAR