BEGIN:VCALENDAR
VERSION:2.0
PRODID:-//Donny Schatz - ECPv6.15.17//NONSGML v1.0//EN
CALSCALE:GREGORIAN
METHOD:PUBLISH
X-WR-CALNAME:Donny Schatz
X-ORIGINAL-URL:https://donnyschatzmotorsports.com
X-WR-CALDESC:Events for Donny Schatz
REFRESH-INTERVAL;VALUE=DURATION:PT1H
X-Robots-Tag:noindex
X-PUBLISHED-TTL:PT1H
BEGIN:VTIMEZONE
TZID:America/New_York
BEGIN:DAYLIGHT
TZOFFSETFROM:-0500
TZOFFSETTO:-0400
TZNAME:EDT
DTSTART:20230312T070000
END:DAYLIGHT
BEGIN:STANDARD
TZOFFSETFROM:-0400
TZOFFSETTO:-0500
TZNAME:EST
DTSTART:20231105T060000
END:STANDARD
BEGIN:DAYLIGHT
TZOFFSETFROM:-0500
TZOFFSETTO:-0400
TZNAME:EDT
DTSTART:20240310T070000
END:DAYLIGHT
BEGIN:STANDARD
TZOFFSETFROM:-0400
TZOFFSETTO:-0500
TZNAME:EST
DTSTART:20241103T060000
END:STANDARD
BEGIN:DAYLIGHT
TZOFFSETFROM:-0500
TZOFFSETTO:-0400
TZNAME:EDT
DTSTART:20250309T070000
END:DAYLIGHT
BEGIN:STANDARD
TZOFFSETFROM:-0400
TZOFFSETTO:-0500
TZNAME:EST
DTSTART:20251102T060000
END:STANDARD
END:VTIMEZONE
BEGIN:VEVENT
DTSTART;TZID=America/New_York:20240601T183000
DTEND;TZID=America/New_York:20240601T220000
DTSTAMP:20260422T224229
CREATED:20231214T193129Z
LAST-MODIFIED:20231214T193139Z
UID:9613-1717266600-1717279200@donnyschatzmotorsports.com
SUMMARY:World of Outlaws Jim "JB" Boyd Memorial
DESCRIPTION:Broadcast live on:
URL:https://donnyschatzmotorsports.com/event/world-of-outlaws-jim-jb-boyd-memorial-2/
LOCATION:Beaver Dam Raceway\, Beaver Dam\, Wisconsin\, United States
CATEGORIES:2024 Season
ATTACH;FMTTYPE=image/png:https://donnyschatzmotorsports.com/wp-content/uploads/2023/02/WoO_logo.png
END:VEVENT
BEGIN:VEVENT
DTSTART;TZID=America/New_York:20240607T183000
DTEND;TZID=America/New_York:20240607T220000
DTSTAMP:20260422T224229
CREATED:20231214T193250Z
LAST-MODIFIED:20231214T193304Z
UID:9615-1717785000-1717797600@donnyschatzmotorsports.com
SUMMARY:Don Mack Classic
DESCRIPTION:Broadcast live on:
URL:https://donnyschatzmotorsports.com/event/don-mack-classic/
LOCATION:River Cities Speedway\, Grand Forks\, North Dakota\, United States
CATEGORIES:2024 Season
ATTACH;FMTTYPE=image/png:https://donnyschatzmotorsports.com/wp-content/uploads/2023/02/WoO_logo.png
END:VEVENT
BEGIN:VEVENT
DTSTART;TZID=America/New_York:20240608T183000
DTEND;TZID=America/New_York:20240608T220000
DTSTAMP:20260422T224229
CREATED:20231214T193351Z
LAST-MODIFIED:20231214T193405Z
UID:9617-1717871400-1717884000@donnyschatzmotorsports.com
SUMMARY:World of Outlaws 'Big O' Showdown
DESCRIPTION:Broadcast live on:
URL:https://donnyschatzmotorsports.com/event/world-of-outlaws-big-o-showdown-2/
LOCATION:Ogilvie Speedway\, 1539 MN-23\, Ogilvie\, MN\, 56358\, United States
CATEGORIES:2024 Season
ATTACH;FMTTYPE=image/png:https://donnyschatzmotorsports.com/wp-content/uploads/2023/02/WoO_logo.png
END:VEVENT
BEGIN:VEVENT
DTSTART;TZID=America/New_York:20240614T183000
DTEND;TZID=America/New_York:20240614T220000
DTSTAMP:20260422T224229
CREATED:20231214T194158Z
LAST-MODIFIED:20231214T194231Z
UID:9619-1718389800-1718402400@donnyschatzmotorsports.com
SUMMARY:World of Outlaws Eclipse Showdown
DESCRIPTION:Broadcast live on:
URL:https://donnyschatzmotorsports.com/event/world-of-outlaws-eclipse-showdown/
LOCATION:Knoxville Raceway\, Knoxville\, Iowa\, United States
CATEGORIES:2024 Season
ATTACH;FMTTYPE=image/png:https://donnyschatzmotorsports.com/wp-content/uploads/2023/02/WoO_logo.png
END:VEVENT
BEGIN:VEVENT
DTSTART;TZID=America/New_York:20240615T183000
DTEND;TZID=America/New_York:20240615T220000
DTSTAMP:20260422T224229
CREATED:20231214T194314Z
LAST-MODIFIED:20231214T194327Z
UID:9622-1718476200-1718488800@donnyschatzmotorsports.com
SUMMARY:World of Outlaws Eclipse Showdown
DESCRIPTION:Broadcast live on:
URL:https://donnyschatzmotorsports.com/event/world-of-outlaws-eclipse-showdown-2/
LOCATION:Knoxville Raceway\, Knoxville\, Iowa\, United States
CATEGORIES:2024 Season
ATTACH;FMTTYPE=image/png:https://donnyschatzmotorsports.com/wp-content/uploads/2023/02/WoO_logo.png
END:VEVENT
BEGIN:VEVENT
DTSTART;TZID=America/New_York:20240619T183000
DTEND;TZID=America/New_York:20240619T220000
DTSTAMP:20260422T224229
CREATED:20231214T194440Z
LAST-MODIFIED:20231214T194455Z
UID:9624-1718821800-1718834400@donnyschatzmotorsports.com
SUMMARY:Huset’s High Bank Hustle
DESCRIPTION:Broadcast live on:
URL:https://donnyschatzmotorsports.com/event/husets-high-bank-hustle/
LOCATION:Huset’s Speedway\, 2012 S Splitrock Blvd\, Brandon\, South Dakota\, 57005\, United States
CATEGORIES:2024 Season
ATTACH;FMTTYPE=image/png:https://donnyschatzmotorsports.com/wp-content/uploads/2023/02/WoO_logo.png
END:VEVENT
BEGIN:VEVENT
DTSTART;TZID=America/New_York:20240620T183000
DTEND;TZID=America/New_York:20240620T220000
DTSTAMP:20260422T224229
CREATED:20231214T194525Z
LAST-MODIFIED:20231214T194537Z
UID:9626-1718908200-1718920800@donnyschatzmotorsports.com
SUMMARY:Huset’s High Bank Hustle
DESCRIPTION:Broadcast live on:
URL:https://donnyschatzmotorsports.com/event/husets-high-bank-hustle-2/
LOCATION:Huset’s Speedway\, 2012 S Splitrock Blvd\, Brandon\, South Dakota\, 57005\, United States
CATEGORIES:2024 Season
ATTACH;FMTTYPE=image/png:https://donnyschatzmotorsports.com/wp-content/uploads/2023/02/WoO_logo.png
END:VEVENT
BEGIN:VEVENT
DTSTART;TZID=America/New_York:20240621T183000
DTEND;TZID=America/New_York:20240621T220000
DTSTAMP:20260422T224229
CREATED:20231214T194716Z
LAST-MODIFIED:20231214T194733Z
UID:9628-1718994600-1719007200@donnyschatzmotorsports.com
SUMMARY:BillionAuto.com Huset’s High Bank Nationals
DESCRIPTION:Broadcast live on:
URL:https://donnyschatzmotorsports.com/event/billionauto-com-husets-high-bank-nationals/
LOCATION:Huset’s Speedway\, 2012 S Splitrock Blvd\, Brandon\, South Dakota\, 57005\, United States
CATEGORIES:2024 Season
ATTACH;FMTTYPE=image/png:https://donnyschatzmotorsports.com/wp-content/uploads/2023/02/WoO_logo.png
END:VEVENT
BEGIN:VEVENT
DTSTART;TZID=America/New_York:20240622T183000
DTEND;TZID=America/New_York:20240622T220000
DTSTAMP:20260422T224229
CREATED:20231214T194802Z
LAST-MODIFIED:20231214T194815Z
UID:9630-1719081000-1719093600@donnyschatzmotorsports.com
SUMMARY:BillionAuto.com Huset’s High Bank Nationals
DESCRIPTION:Broadcast live on:
URL:https://donnyschatzmotorsports.com/event/billionauto-com-husets-high-bank-nationals-2/
LOCATION:Huset’s Speedway\, 2012 S Splitrock Blvd\, Brandon\, South Dakota\, 57005\, United States
CATEGORIES:2024 Season
ATTACH;FMTTYPE=image/png:https://donnyschatzmotorsports.com/wp-content/uploads/2023/02/WoO_logo.png
END:VEVENT
BEGIN:VEVENT
DTSTART;TZID=America/New_York:20240628T183000
DTEND;TZID=America/New_York:20240628T220000
DTSTAMP:20260422T224229
CREATED:20231214T194910Z
LAST-MODIFIED:20231214T194921Z
UID:9632-1719599400-1719612000@donnyschatzmotorsports.com
SUMMARY:World of Outlaws Pre-Independence Day Spectacular
DESCRIPTION:Broadcast live on:
URL:https://donnyschatzmotorsports.com/event/world-of-outlaws-pre-independence-day-spectacular/
LOCATION:Cedar Lake Speedway\, New Richmond\, Wisconsin\, United States
CATEGORIES:2024 Season
ATTACH;FMTTYPE=image/png:https://donnyschatzmotorsports.com/wp-content/uploads/2023/02/WoO_logo.png
END:VEVENT
BEGIN:VEVENT
DTSTART;TZID=America/New_York:20240629T183000
DTEND;TZID=America/New_York:20240629T220000
DTSTAMP:20260422T224229
CREATED:20231214T194947Z
LAST-MODIFIED:20231214T194958Z
UID:9634-1719685800-1719698400@donnyschatzmotorsports.com
SUMMARY:World of Outlaws Pre-Independence Day Spectacular
DESCRIPTION:Broadcast live on:
URL:https://donnyschatzmotorsports.com/event/world-of-outlaws-pre-independence-day-spectacular-2/
LOCATION:Cedar Lake Speedway\, New Richmond\, Wisconsin\, United States
CATEGORIES:2024 Season
ATTACH;FMTTYPE=image/png:https://donnyschatzmotorsports.com/wp-content/uploads/2023/02/WoO_logo.png
END:VEVENT
END:VCALENDAR