BEGIN:VCALENDAR
VERSION:2.0
PRODID:-//Donny Schatz - ECPv6.15.17//NONSGML v1.0//EN
CALSCALE:GREGORIAN
METHOD:PUBLISH
X-ORIGINAL-URL:https://donnyschatzmotorsports.com
X-WR-CALDESC:Events for Donny Schatz
REFRESH-INTERVAL;VALUE=DURATION:PT1H
X-Robots-Tag:noindex
X-PUBLISHED-TTL:PT1H
BEGIN:VTIMEZONE
TZID:America/New_York
BEGIN:DAYLIGHT
TZOFFSETFROM:-0500
TZOFFSETTO:-0400
TZNAME:EDT
DTSTART:20230312T070000
END:DAYLIGHT
BEGIN:STANDARD
TZOFFSETFROM:-0400
TZOFFSETTO:-0500
TZNAME:EST
DTSTART:20231105T060000
END:STANDARD
BEGIN:DAYLIGHT
TZOFFSETFROM:-0500
TZOFFSETTO:-0400
TZNAME:EDT
DTSTART:20240310T070000
END:DAYLIGHT
BEGIN:STANDARD
TZOFFSETFROM:-0400
TZOFFSETTO:-0500
TZNAME:EST
DTSTART:20241103T060000
END:STANDARD
BEGIN:DAYLIGHT
TZOFFSETFROM:-0500
TZOFFSETTO:-0400
TZNAME:EDT
DTSTART:20250309T070000
END:DAYLIGHT
BEGIN:STANDARD
TZOFFSETFROM:-0400
TZOFFSETTO:-0500
TZNAME:EST
DTSTART:20251102T060000
END:STANDARD
END:VTIMEZONE
BEGIN:VEVENT
DTSTART;TZID=America/New_York:20241004T183000
DTEND;TZID=America/New_York:20241004T220000
DTSTAMP:20260422T162649
CREATED:20231214T203203Z
LAST-MODIFIED:20231214T203227Z
UID:9700-1728066600-1728079200@donnyschatzmotorsports.com
SUMMARY:World of Outlaws National Open
DESCRIPTION:Broadcast live on:
URL:https://donnyschatzmotorsports.com/event/world-of-outlaws-national-open/
LOCATION:Williams Grove Speedway\, Mechanicsburg\, Pennsylvania\, United States
CATEGORIES:2024 Season
ATTACH;FMTTYPE=image/png:https://donnyschatzmotorsports.com/wp-content/uploads/2023/02/WoO_logo.png
END:VEVENT
BEGIN:VEVENT
DTSTART;TZID=America/New_York:20241005T183000
DTEND;TZID=America/New_York:20241005T220000
DTSTAMP:20260422T162649
CREATED:20231214T203300Z
LAST-MODIFIED:20231214T203318Z
UID:9702-1728153000-1728165600@donnyschatzmotorsports.com
SUMMARY:World of Outlaws National Open
DESCRIPTION:Broadcast live on:
URL:https://donnyschatzmotorsports.com/event/world-of-outlaws-national-open-2/
LOCATION:Williams Grove Speedway\, Mechanicsburg\, Pennsylvania\, United States
CATEGORIES:2024 Season
ATTACH;FMTTYPE=image/png:https://donnyschatzmotorsports.com/wp-content/uploads/2023/02/WoO_logo.png
END:VEVENT
BEGIN:VEVENT
DTSTART;TZID=America/New_York:20241011T183000
DTEND;TZID=America/New_York:20241011T220000
DTSTAMP:20260422T162649
CREATED:20231214T203550Z
LAST-MODIFIED:20231214T203619Z
UID:9704-1728671400-1728684000@donnyschatzmotorsports.com
SUMMARY:World of Outlaws Jim Nace Memorial
DESCRIPTION:Broadcast live on:
URL:https://donnyschatzmotorsports.com/event/world-of-outlaws-jim-nace-memorial/
LOCATION:Selinsgrove Speedway\, 47 Sandhill Rd\, Selinsgrove\, Pennsylvania\, United States
CATEGORIES:2024 Season
ATTACH;FMTTYPE=image/png:https://donnyschatzmotorsports.com/wp-content/uploads/2023/02/WoO_logo.png
END:VEVENT
BEGIN:VEVENT
DTSTART;TZID=America/New_York:20241012T183000
DTEND;TZID=America/New_York:20241012T220000
DTSTAMP:20260422T162649
CREATED:20231214T203701Z
LAST-MODIFIED:20231214T203714Z
UID:9709-1728757800-1728770400@donnyschatzmotorsports.com
SUMMARY:World of Outlaws Jim Nace Memorial
DESCRIPTION:Broadcast live on:
URL:https://donnyschatzmotorsports.com/event/world-of-outlaws-jim-nace-memorial-2/
LOCATION:Selinsgrove Speedway\, 47 Sandhill Rd\, Selinsgrove\, Pennsylvania\, United States
CATEGORIES:2024 Season
ATTACH;FMTTYPE=image/png:https://donnyschatzmotorsports.com/wp-content/uploads/2023/02/WoO_logo.png
END:VEVENT
BEGIN:VEVENT
DTSTART;TZID=America/New_York:20241018T183000
DTEND;TZID=America/New_York:20241018T220000
DTSTAMP:20260422T162649
CREATED:20231214T203841Z
LAST-MODIFIED:20231214T203907Z
UID:9711-1729276200-1729288800@donnyschatzmotorsports.com
SUMMARY:World of Outlaws Route 66 Sprint Car Showdown
DESCRIPTION:Broadcast live on:
URL:https://donnyschatzmotorsports.com/event/world-of-outlaws-route-66-sprint-car-showdown/
LOCATION:The Dirt Oval at Route 66\, Joliet\, Illinois\, United States
CATEGORIES:2024 Season
ATTACH;FMTTYPE=image/png:https://donnyschatzmotorsports.com/wp-content/uploads/2023/02/WoO_logo.png
END:VEVENT
BEGIN:VEVENT
DTSTART;TZID=America/New_York:20241019T183000
DTEND;TZID=America/New_York:20241019T220000
DTSTAMP:20260422T162649
CREATED:20231214T203936Z
LAST-MODIFIED:20231214T203951Z
UID:9713-1729362600-1729375200@donnyschatzmotorsports.com
SUMMARY:World of Outlaws Route 66 Sprint Car Showdown
DESCRIPTION:Broadcast live on:
URL:https://donnyschatzmotorsports.com/event/world-of-outlaws-route-66-sprint-car-showdown-2/
LOCATION:The Dirt Oval at Route 66\, Joliet\, Illinois\, United States
CATEGORIES:2024 Season
ATTACH;FMTTYPE=image/png:https://donnyschatzmotorsports.com/wp-content/uploads/2023/02/WoO_logo.png
END:VEVENT
BEGIN:VEVENT
DTSTART;TZID=America/New_York:20241025T183000
DTEND;TZID=America/New_York:20241025T220000
DTSTAMP:20260422T162649
CREATED:20231214T204139Z
LAST-MODIFIED:20231214T204157Z
UID:9715-1729881000-1729893600@donnyschatzmotorsports.com
SUMMARY:World of Outlaws Bull Ring Blitz
DESCRIPTION:Broadcast live on:
URL:https://donnyschatzmotorsports.com/event/world-of-outlaws-bull-ring-blitz/
LOCATION:Riverside International Speedway\, 151 Legion Rd\, West Memphis\, Arkansas\, 72301\, United States
CATEGORIES:2024 Season
ATTACH;FMTTYPE=image/png:https://donnyschatzmotorsports.com/wp-content/uploads/2023/02/WoO_logo.png
END:VEVENT
BEGIN:VEVENT
DTSTART;TZID=America/New_York:20241026T183000
DTEND;TZID=America/New_York:20241026T220000
DTSTAMP:20260422T162649
CREATED:20231214T204227Z
LAST-MODIFIED:20231214T204255Z
UID:9719-1729967400-1729980000@donnyschatzmotorsports.com
SUMMARY:World of Outlaws Bull Ring Blitz
DESCRIPTION:Broadcast live on:
URL:https://donnyschatzmotorsports.com/event/world-of-outlaws-bull-ring-blitz-2/
LOCATION:Riverside International Speedway\, 151 Legion Rd\, West Memphis\, Arkansas\, 72301\, United States
CATEGORIES:2024 Season
ATTACH;FMTTYPE=image/png:https://donnyschatzmotorsports.com/wp-content/uploads/2023/02/WoO_logo.png
END:VEVENT
END:VCALENDAR