BEGIN:VCALENDAR
VERSION:2.0
PRODID:-//Donny Schatz - ECPv6.15.17//NONSGML v1.0//EN
CALSCALE:GREGORIAN
METHOD:PUBLISH
X-ORIGINAL-URL:https://donnyschatzmotorsports.com
X-WR-CALDESC:Events for Donny Schatz
REFRESH-INTERVAL;VALUE=DURATION:PT1H
X-Robots-Tag:noindex
X-PUBLISHED-TTL:PT1H
BEGIN:VTIMEZONE
TZID:America/New_York
BEGIN:DAYLIGHT
TZOFFSETFROM:-0500
TZOFFSETTO:-0400
TZNAME:EDT
DTSTART:20230312T070000
END:DAYLIGHT
BEGIN:STANDARD
TZOFFSETFROM:-0400
TZOFFSETTO:-0500
TZNAME:EST
DTSTART:20231105T060000
END:STANDARD
BEGIN:DAYLIGHT
TZOFFSETFROM:-0500
TZOFFSETTO:-0400
TZNAME:EDT
DTSTART:20240310T070000
END:DAYLIGHT
BEGIN:STANDARD
TZOFFSETFROM:-0400
TZOFFSETTO:-0500
TZNAME:EST
DTSTART:20241103T060000
END:STANDARD
BEGIN:DAYLIGHT
TZOFFSETFROM:-0500
TZOFFSETTO:-0400
TZNAME:EDT
DTSTART:20250309T070000
END:DAYLIGHT
BEGIN:STANDARD
TZOFFSETFROM:-0400
TZOFFSETTO:-0500
TZNAME:EST
DTSTART:20251102T060000
END:STANDARD
END:VTIMEZONE
BEGIN:VEVENT
DTSTART;TZID=America/New_York:20241106T183000
DTEND;TZID=America/New_York:20241106T220000
DTSTAMP:20260422T144548
CREATED:20231214T204426Z
LAST-MODIFIED:20231214T204439Z
UID:9721-1730917800-1730930400@donnyschatzmotorsports.com
SUMMARY:World of Outlaws World Finals
DESCRIPTION:Broadcast live on:
URL:https://donnyschatzmotorsports.com/event/world-of-outlaws-world-finals-3/
LOCATION:The Dirt Track at Charlotte\, Concord\, North Carolina\, United States
CATEGORIES:2024 Season
ATTACH;FMTTYPE=image/png:https://donnyschatzmotorsports.com/wp-content/uploads/2023/02/WoO_logo.png
END:VEVENT
BEGIN:VEVENT
DTSTART;TZID=America/New_York:20241107T183000
DTEND;TZID=America/New_York:20241107T220000
DTSTAMP:20260422T144548
CREATED:20231214T204519Z
LAST-MODIFIED:20231214T204537Z
UID:9723-1731004200-1731016800@donnyschatzmotorsports.com
SUMMARY:World of Outlaws World Finals
DESCRIPTION:Broadcast live on:
URL:https://donnyschatzmotorsports.com/event/world-of-outlaws-world-finals-4/
LOCATION:The Dirt Track at Charlotte\, Concord\, North Carolina\, United States
CATEGORIES:2024 Season
ATTACH;FMTTYPE=image/png:https://donnyschatzmotorsports.com/wp-content/uploads/2023/02/WoO_logo.png
END:VEVENT
BEGIN:VEVENT
DTSTART;TZID=America/New_York:20241108T183000
DTEND;TZID=America/New_York:20241108T220000
DTSTAMP:20260422T144548
CREATED:20231214T204606Z
LAST-MODIFIED:20231214T204716Z
UID:9724-1731090600-1731103200@donnyschatzmotorsports.com
SUMMARY:World of Outlaws World Finals
DESCRIPTION:Broadcast live on:
URL:https://donnyschatzmotorsports.com/event/world-of-outlaws-world-finals-5/
LOCATION:The Dirt Track at Charlotte\, Concord\, North Carolina\, United States
CATEGORIES:2024 Season
ATTACH;FMTTYPE=image/png:https://donnyschatzmotorsports.com/wp-content/uploads/2023/02/WoO_logo.png
END:VEVENT
BEGIN:VEVENT
DTSTART;TZID=America/New_York:20241109T183000
DTEND;TZID=America/New_York:20241109T220000
DTSTAMP:20260422T144548
CREATED:20231214T204740Z
LAST-MODIFIED:20231214T204754Z
UID:9725-1731177000-1731189600@donnyschatzmotorsports.com
SUMMARY:World of Outlaws World Finals
DESCRIPTION:Broadcast live on:
URL:https://donnyschatzmotorsports.com/event/world-of-outlaws-world-finals-6/
LOCATION:The Dirt Track at Charlotte\, Concord\, North Carolina\, United States
CATEGORIES:2024 Season
ATTACH;FMTTYPE=image/png:https://donnyschatzmotorsports.com/wp-content/uploads/2023/02/WoO_logo.png
END:VEVENT
END:VCALENDAR